BEGIN:VCALENDAR
VERSION:2.0
PRODID:-//TimKrief Projects - ECPv6.0.8//NONSGML v1.0//EN
CALSCALE:GREGORIAN
METHOD:PUBLISH
X-WR-CALNAME:TimKrief Projects
X-ORIGINAL-URL:https://projects.timkrief.com
X-WR-CALDESC:Events for TimKrief Projects
REFRESH-INTERVAL;VALUE=DURATION:PT1H
X-Robots-Tag:noindex
X-PUBLISHED-TTL:PT1H
BEGIN:VTIMEZONE
TZID:Europe/Paris
BEGIN:DAYLIGHT
TZOFFSETFROM:+0100
TZOFFSETTO:+0200
TZNAME:CEST
DTSTART:20230326T010000
END:DAYLIGHT
BEGIN:STANDARD
TZOFFSETFROM:+0200
TZOFFSETTO:+0100
TZNAME:CET
DTSTART:20231029T010000
END:STANDARD
END:VTIMEZONE
BEGIN:VEVENT
DTSTART;TZID=Europe/Paris:20231010T141000
DTEND;TZID=Europe/Paris:20231010T153000
DTSTAMP:20260423T141253
CREATED:20231129T143457Z
LAST-MODIFIED:20231129T144349Z
UID:1824-1696947000-1696951800@projects.timkrief.com
SUMMARY:Video editing
DESCRIPTION:
URL:https://projects.timkrief.com/event/video-editing-2/
CATEGORIES:Elected Stream
END:VEVENT
END:VCALENDAR