BEGIN:VCALENDAR
VERSION:2.0
PRODID:-//TimKrief Projects - ECPv6.0.8//NONSGML v1.0//EN
CALSCALE:GREGORIAN
METHOD:PUBLISH
X-ORIGINAL-URL:https://projects.timkrief.com
X-WR-CALDESC:Events for TimKrief Projects
REFRESH-INTERVAL;VALUE=DURATION:PT1H
X-Robots-Tag:noindex
X-PUBLISHED-TTL:PT1H
BEGIN:VTIMEZONE
TZID:Europe/Paris
BEGIN:DAYLIGHT
TZOFFSETFROM:+0100
TZOFFSETTO:+0200
TZNAME:CEST
DTSTART:20240331T010000
END:DAYLIGHT
BEGIN:STANDARD
TZOFFSETFROM:+0200
TZOFFSETTO:+0100
TZNAME:CET
DTSTART:20241027T010000
END:STANDARD
END:VTIMEZONE
BEGIN:VEVENT
DTSTART;TZID=Europe/Paris:20240209T151000
DTEND;TZID=Europe/Paris:20240209T170500
DTSTAMP:20260423T154310
CREATED:20240209T160834Z
LAST-MODIFIED:20240209T160834Z
UID:1846-1707491400-1707498300@projects.timkrief.com
SUMMARY:Creating assets and enhance them programmatically
DESCRIPTION:
URL:https://projects.timkrief.com/event/creating-assets-and-enhance-them-programmatically/
CATEGORIES:Elected Stream
END:VEVENT
END:VCALENDAR